Package: RImmPort Version: 1.36.0 Command: /Library/Frameworks/R.framework/Resources/bin/R CMD build --keep-empty-dirs --no-resave-data RImmPort StartedAt: 2025-10-02 22:03:45 -0400 (Thu, 02 Oct 2025) EndedAt: 2025-10-02 22:04:36 -0400 (Thu, 02 Oct 2025) EllapsedTime: 50.7 seconds RetCode: 0 Status: OK PackageFile: RImmPort_1.36.0.tar.gz PackageFileSize: 2.821 MiB