Package: RGraph2js Version: 1.36.0 Command: /Library/Frameworks/R.framework/Resources/bin/R CMD build --keep-empty-dirs --no-resave-data RGraph2js StartedAt: 2025-04-21 17:25:53 -0400 (Mon, 21 Apr 2025) EndedAt: 2025-04-21 17:26:00 -0400 (Mon, 21 Apr 2025) EllapsedTime: 7.1 seconds RetCode: 0 Status: OK PackageFile: RGraph2js_1.36.0.tar.gz PackageFileSize: 2.343 MiB