Package: RFLOMICS Version: 1.2.0 Command: /home/biocbuild/bbs-3.22-bioc/R/bin/R CMD INSTALL RFLOMICS StartedAt: 2025-11-06 15:48:15 -0500 (Thu, 06 Nov 2025) EndedAt: 2025-11-06 15:49:09 -0500 (Thu, 06 Nov 2025) EllapsedTime: 53.5 seconds RetCode: 0 Status: OK