Package: RFLOMICS Version: 1.2.0 Command: /home/biocbuild/bbs-3.22-bioc/R/bin/R CMD build --keep-empty-dirs --no-resave-data --md5 RFLOMICS StartedAt: 2025-11-06 19:36:35 -0500 (Thu, 06 Nov 2025) EndedAt: 2025-11-06 19:38:55 -0500 (Thu, 06 Nov 2025) EllapsedTime: 140.1 seconds RetCode: 0 Status: OK PackageFile: RFLOMICS_1.2.0.tar.gz PackageFileSize: 5.192 MiB