Package: RFLOMICS Version: 1.2.0 Command: /Library/Frameworks/R.framework/Resources/bin/R CMD INSTALL RFLOMICS StartedAt: 2025-11-03 15:46:12 -0500 (Mon, 03 Nov 2025) EndedAt: 2025-11-03 15:47:27 -0500 (Mon, 03 Nov 2025) EllapsedTime: 74.4 seconds RetCode: 0 Status: OK