Package: RFLOMICS Version: 1.2.0 Command: /Library/Frameworks/R.framework/Resources/bin/R CMD build --keep-empty-dirs --no-resave-data RFLOMICS StartedAt: 2025-11-03 18:27:12 -0500 (Mon, 03 Nov 2025) EndedAt: 2025-11-03 18:29:58 -0500 (Mon, 03 Nov 2025) EllapsedTime: 165.5 seconds RetCode: 0 Status: OK PackageFile: RFLOMICS_1.2.0.tar.gz PackageFileSize: 5.076 MiB