Package: RFLOMICS Version: 1.2.0 Command: rm -rf RFLOMICS.buildbin-libdir && mkdir RFLOMICS.buildbin-libdir && /Users/biocbuild/BBS/utils/build-universal.sh RFLOMICS_1.2.0.tar.gz /Library/Frameworks/R.framework/Resources/bin/R RFLOMICS.buildbin-libdir StartedAt: 2025-11-04 01:59:01 -0500 (Tue, 04 Nov 2025) EndedAt: 2025-11-04 02:00:20 -0500 (Tue, 04 Nov 2025) EllapsedTime: 78.2 seconds RetCode: 0 Status: OK PackageFile: RFLOMICS_1.2.0.tgz PackageFileSize: 4.922 MiB