Package: RFLOMICS Version: 1.0.1 Command: /home/biocbuild/R/R/bin/R CMD INSTALL RFLOMICS StartedAt: 2025-10-13 21:07:45 -0000 (Mon, 13 Oct 2025) EndedAt: 2025-10-13 21:09:02 -0000 (Mon, 13 Oct 2025) EllapsedTime: 77.2 seconds RetCode: 0 Status: OK