Package: RFLOMICS Version: 1.0.1 Command: /home/biocbuild/R/R/bin/R CMD build --keep-empty-dirs --no-resave-data RFLOMICS StartedAt: 2025-10-14 04:00:08 -0000 (Tue, 14 Oct 2025) EndedAt: 2025-10-14 04:03:21 -0000 (Tue, 14 Oct 2025) EllapsedTime: 192.1 seconds RetCode: 0 Status: OK PackageFile: RFLOMICS_1.0.1.tar.gz PackageFileSize: 5.018 MiB