Package: REMP Version: 1.32.1 Command: chmod a+r REMP -R && E:\biocbuild\bbs-3.21-bioc\R\bin\R.exe CMD build --keep-empty-dirs --no-resave-data REMP StartedAt: 2025-08-14 21:41:47 -0400 (Thu, 14 Aug 2025) EndedAt: 2025-08-14 21:44:20 -0400 (Thu, 14 Aug 2025) EllapsedTime: 153.0 seconds RetCode: 0 Status: OK PackageFile: REMP_1.32.1.tar.gz PackageFileSize: 190.8 KiB