Package: REMP Version: 1.32.0 Maintainer: Yinan Zheng MaintainerEmail: y-zheng at northwestern.edu git_url: https://git.bioconductor.org/packages/REMP git_branch: RELEASE_3_21 git_last_commit: e5390fc git_last_commit_date: 2025-04-15 11:08:42 -0400 (Tue, 15 Apr 2025)