Package: REBET Version: 1.24.0 Command: /home/biocbuild/R/R/bin/R CMD INSTALL REBET StartedAt: 2025-01-30 21:07:10 -0000 (Thu, 30 Jan 2025) EndedAt: 2025-01-30 21:07:18 -0000 (Thu, 30 Jan 2025) EllapsedTime: 8.4 seconds RetCode: 0 Status: OK