Package: REBET Version: 1.24.0 Command: /home/biocbuild/R/R/bin/R CMD build --keep-empty-dirs --no-resave-data REBET StartedAt: 2025-01-31 02:04:08 -0000 (Fri, 31 Jan 2025) EndedAt: 2025-01-31 02:04:21 -0000 (Fri, 31 Jan 2025) EllapsedTime: 13.0 seconds RetCode: 0 Status: OK PackageFile: REBET_1.24.0.tar.gz PackageFileSize: 301.5 KiB