Package: REBET Version: 1.26.0 Command: E:\biocbuild\bbs-3.21-bioc\R\bin\R.exe CMD INSTALL REBET StartedAt: 2025-08-14 15:26:36 -0400 (Thu, 14 Aug 2025) EndedAt: 2025-08-14 15:27:04 -0400 (Thu, 14 Aug 2025) EllapsedTime: 27.9 seconds RetCode: 0 Status: OK