Package: REBET Version: 1.26.0 Command: /home/biocbuild/bbs-3.21-bioc/R/bin/R CMD build --keep-empty-dirs --no-resave-data REBET StartedAt: 2025-10-08 19:23:32 -0400 (Wed, 08 Oct 2025) EndedAt: 2025-10-08 19:23:43 -0400 (Wed, 08 Oct 2025) EllapsedTime: 11.0 seconds RetCode: 0 Status: OK PackageFile: REBET_1.26.0.tar.gz PackageFileSize: 311.2 KiB