Package: REBET Version: 1.26.0 Maintainer: Bill Wheeler MaintainerEmail: wheelerb at imsweb.com git_url: https://git.bioconductor.org/packages/REBET git_branch: RELEASE_3_21 git_last_commit: ce98409 git_last_commit_date: 2025-04-15 11:36:25 -0400 (Tue, 15 Apr 2025)