Package: RCy3 Version: 2.26.0 Command: /home/biocbuild/R/R/bin/R CMD check --install=check:RCy3.install-out.txt --library=/home/biocbuild/R/R/site-library --no-vignettes --timings RCy3_2.26.0.tar.gz StartedAt: 2025-01-31 09:33:12 -0000 (Fri, 31 Jan 2025) EndedAt: 2025-01-31 09:34:34 -0000 (Fri, 31 Jan 2025) EllapsedTime: 82.1 seconds RetCode: 0 Status: OK CheckDir: RCy3.Rcheck Warnings: 0