Package: RCy3 Version: 2.28.0 Command: /Library/Frameworks/R.framework/Resources/bin/R CMD build --keep-empty-dirs --no-resave-data RCy3 StartedAt: 2025-05-06 06:40:01 -0400 (Tue, 06 May 2025) EndedAt: 2025-05-06 06:40:58 -0400 (Tue, 06 May 2025) EllapsedTime: 56.4 seconds RetCode: 0 Status: OK PackageFile: RCy3_2.28.0.tar.gz PackageFileSize: 6.457 MiB