Package: RCX Version: 1.14.0 Command: /home/biocbuild/bbs-3.22-bioc/R/bin/R CMD INSTALL RCX StartedAt: 2025-11-14 15:06:42 -0500 (Fri, 14 Nov 2025) EndedAt: 2025-11-14 15:06:48 -0500 (Fri, 14 Nov 2025) EllapsedTime: 5.5 seconds RetCode: 0 Status: OK