Package: RCM Version: 1.22.0 Command: /home/biocbuild/R/R/bin/R CMD INSTALL RCM StartedAt: 2025-01-30 20:55:04 -0000 (Thu, 30 Jan 2025) EndedAt: 2025-01-30 20:55:32 -0000 (Thu, 30 Jan 2025) EllapsedTime: 28.1 seconds RetCode: 0 Status: OK