Package: RCM Version: 1.24.0 Command: chmod a+r RCM -R && E:\biocbuild\bbs-3.21-bioc\R\bin\R.exe CMD build --keep-empty-dirs --no-resave-data RCM StartedAt: 2025-08-14 21:37:33 -0400 (Thu, 14 Aug 2025) EndedAt: 2025-08-14 21:39:45 -0400 (Thu, 14 Aug 2025) EllapsedTime: 132.5 seconds RetCode: 0 Status: OK PackageFile: RCM_1.24.0.tar.gz PackageFileSize: 3.16 MiB