Package: RCM Version: 1.24.0 Command: /Library/Frameworks/R.framework/Resources/bin/R CMD build --keep-empty-dirs --no-resave-data RCM StartedAt: 2025-05-22 21:44:13 -0400 (Thu, 22 May 2025) EndedAt: 2025-05-22 21:46:15 -0400 (Thu, 22 May 2025) EllapsedTime: 122.5 seconds RetCode: 0 Status: OK PackageFile: RCM_1.24.0.tar.gz PackageFileSize: 4.819 MiB