Package: RCM Version: 1.24.0 Maintainer: Stijn Hawinkel MaintainerEmail: stijn.hawinkel at psb.ugent.be git_url: https://git.bioconductor.org/packages/RCM git_branch: RELEASE_3_21 git_last_commit: 459b0fc git_last_commit_date: 2025-04-15 11:40:10 -0400 (Tue, 15 Apr 2025)