Package: RCASPAR Version: 1.52.0 Command: /home/biocbuild/R/R/bin/R CMD build --keep-empty-dirs --no-resave-data RCASPAR StartedAt: 2025-02-04 02:07:16 -0000 (Tue, 04 Feb 2025) EndedAt: 2025-02-04 02:07:22 -0000 (Tue, 04 Feb 2025) EllapsedTime: 6.0 seconds RetCode: 0 Status: OK PackageFile: RCASPAR_1.52.0.tar.gz PackageFileSize: 297 KiB