Package: RCAS Version: 1.34.0 Command: /Library/Frameworks/R.framework/Resources/bin/R CMD INSTALL RCAS StartedAt: 2025-05-01 16:07:16 -0400 (Thu, 01 May 2025) EndedAt: 2025-05-01 16:08:55 -0400 (Thu, 01 May 2025) EllapsedTime: 98.7 seconds RetCode: 0 Status: OK