Package: RCAS Version: 1.34.0 Command: /Library/Frameworks/R.framework/Resources/bin/R CMD build --keep-empty-dirs --no-resave-data RCAS StartedAt: 2025-05-01 21:37:56 -0400 (Thu, 01 May 2025) EndedAt: 2025-05-01 21:43:28 -0400 (Thu, 01 May 2025) EllapsedTime: 332.0 seconds RetCode: 0 Status: OK PackageFile: RCAS_1.34.0.tar.gz PackageFileSize: 1.593 MiB