Package: RCAS Version: 1.34.0 Command: rm -rf RCAS.buildbin-libdir && mkdir RCAS.buildbin-libdir && /Users/biocbuild/BBS/utils/build-universal.sh RCAS_1.34.0.tar.gz /Library/Frameworks/R.framework/Resources/bin/R RCAS.buildbin-libdir StartedAt: 2025-05-02 14:11:22 -0400 (Fri, 02 May 2025) EndedAt: 2025-05-02 14:13:28 -0400 (Fri, 02 May 2025) EllapsedTime: 126.1 seconds RetCode: 0 Status: OK PackageFile: RCAS_1.34.0.tgz PackageFileSize: 2.046 MiB