Package: RCAS Version: 1.34.0 Command: /Library/Frameworks/R.framework/Resources/bin/R CMD check --install=check:RCAS.install-out.txt --library=/Library/Frameworks/R.framework/Resources/library --no-vignettes --timings RCAS_1.34.0.tar.gz StartedAt: 2025-04-21 21:08:19 -0400 (Mon, 21 Apr 2025) EndedAt: 2025-04-21 21:12:25 -0400 (Mon, 21 Apr 2025) EllapsedTime: 246.3 seconds RetCode: 0 Status: OK CheckDir: RCAS.Rcheck Warnings: 0