Package: RCAS Version: 1.32.0 Command: /Library/Frameworks/R.framework/Resources/bin/R CMD check --install=check:RCAS.install-out.txt --library=/Library/Frameworks/R.framework/Resources/library --no-vignettes --timings RCAS_1.32.0.tar.gz StartedAt: 2025-02-01 06:00:37 -0500 (Sat, 01 Feb 2025) EndedAt: 2025-02-01 06:12:24 -0500 (Sat, 01 Feb 2025) EllapsedTime: 707.3 seconds RetCode: 0 Status: OK CheckDir: RCAS.Rcheck Warnings: 0