Package: RBioFormats Version: 1.8.0 Command: /Library/Frameworks/R.framework/Resources/bin/R CMD INSTALL RBioFormats StartedAt: 2025-05-12 16:01:08 -0400 (Mon, 12 May 2025) EndedAt: 2025-05-12 16:01:29 -0400 (Mon, 12 May 2025) EllapsedTime: 20.7 seconds RetCode: 0 Status: OK