Package: RBM Version: 1.40.0 Maintainer: Dongmei Li MaintainerEmail: Dongmei_Li at urmc.rochester.edu git_url: https://git.bioconductor.org/packages/RBM git_branch: RELEASE_3_21 git_last_commit: 3afa95c git_last_commit_date: 2025-04-15 10:49:37 -0400 (Tue, 15 Apr 2025)