Package: RBGL Version: 1.82.0 Command: /home/biocbuild/R/R/bin/R CMD INSTALL RBGL StartedAt: 2025-02-03 20:24:23 -0000 (Mon, 03 Feb 2025) EndedAt: 2025-02-03 20:26:49 -0000 (Mon, 03 Feb 2025) EllapsedTime: 146.0 seconds RetCode: 0 Status: OK