Package: RBGL Version: 1.82.0 Command: /home/biocbuild/R/R/bin/R CMD build --keep-empty-dirs --no-resave-data RBGL StartedAt: 2025-02-04 02:05:50 -0000 (Tue, 04 Feb 2025) EndedAt: 2025-02-04 02:08:43 -0000 (Tue, 04 Feb 2025) EllapsedTime: 173.2 seconds RetCode: 0 Status: OK PackageFile: RBGL_1.82.0.tar.gz PackageFileSize: 2.875 MiB