Package: RBGL Version: 1.84.0 Command: /Library/Frameworks/R.framework/Resources/bin/R CMD build --keep-empty-dirs --no-resave-data RBGL StartedAt: 2025-04-21 18:05:04 -0400 (Mon, 21 Apr 2025) EndedAt: 2025-04-21 18:07:07 -0400 (Mon, 21 Apr 2025) EllapsedTime: 123.4 seconds RetCode: 0 Status: OK PackageFile: RBGL_1.84.0.tar.gz PackageFileSize: 2.949 MiB