Package: RAREsim Version: 1.10.0 Command: /home/biocbuild/R/R/bin/R CMD check --install=check:RAREsim.install-out.txt --library=/home/biocbuild/R/R/site-library --no-vignettes --timings RAREsim_1.10.0.tar.gz StartedAt: 2025-01-31 09:30:38 -0000 (Fri, 31 Jan 2025) EndedAt: 2025-01-31 09:30:54 -0000 (Fri, 31 Jan 2025) EllapsedTime: 16.0 seconds RetCode: 0 Status: OK CheckDir: RAREsim.Rcheck Warnings: 0