Package: RAREsim Version: 1.13.0 Command: rm -rf RAREsim.buildbin-libdir && mkdir RAREsim.buildbin-libdir && F:\biocbuild\bbs-3.22-bioc\R\bin\R.exe CMD INSTALL --build --library=RAREsim.buildbin-libdir RAREsim_1.13.0.tar.gz StartedAt: 2025-08-15 11:03:12 -0400 (Fri, 15 Aug 2025) EndedAt: 2025-08-15 11:03:19 -0400 (Fri, 15 Aug 2025) EllapsedTime: 7.1 seconds RetCode: 0 Status: OK PackageFile: RAREsim_1.13.0.zip PackageFileSize: 281 KiB