Package: RAREsim Version: 1.12.0 Command: chmod a+r RAREsim -R && E:\biocbuild\bbs-3.21-bioc\R\bin\R.exe CMD build --keep-empty-dirs --no-resave-data RAREsim StartedAt: 2025-08-14 21:34:33 -0400 (Thu, 14 Aug 2025) EndedAt: 2025-08-14 21:34:45 -0400 (Thu, 14 Aug 2025) EllapsedTime: 11.8 seconds RetCode: 0 Status: OK PackageFile: RAREsim_1.12.0.tar.gz PackageFileSize: 257.3 KiB