Package: R4RNA Version: 1.36.0 Command: /Library/Frameworks/R.framework/Resources/bin/R CMD build --keep-empty-dirs --no-resave-data R4RNA StartedAt: 2025-04-21 17:21:40 -0400 (Mon, 21 Apr 2025) EndedAt: 2025-04-21 17:21:49 -0400 (Mon, 21 Apr 2025) EllapsedTime: 9.1 seconds RetCode: 0 Status: OK PackageFile: R4RNA_1.36.0.tar.gz PackageFileSize: 903.4 KiB