Package: R4RNA Version: 1.36.0 Command: rm -rf R4RNA.buildbin-libdir && mkdir R4RNA.buildbin-libdir && /Users/biocbuild/BBS/utils/build-universal.sh R4RNA_1.36.0.tar.gz /Library/Frameworks/R.framework/Resources/bin/R R4RNA.buildbin-libdir StartedAt: 2025-04-21 22:47:40 -0400 (Mon, 21 Apr 2025) EndedAt: 2025-04-21 22:47:45 -0400 (Mon, 21 Apr 2025) EllapsedTime: 5.1 seconds RetCode: 0 Status: OK PackageFile: R4RNA_1.36.0.tgz PackageFileSize: 1.021 MiB