Package: R453Plus1Toolbox Version: 1.58.0 Command: /Library/Frameworks/R.framework/Resources/bin/R CMD INSTALL R453Plus1Toolbox StartedAt: 2025-05-22 17:52:46 -0400 (Thu, 22 May 2025) EndedAt: 2025-05-22 17:54:05 -0400 (Thu, 22 May 2025) EllapsedTime: 79.1 seconds RetCode: 0 Status: OK