Package: QuaternaryProd Version: 1.42.0 Command: /home/biocbuild/bbs-3.21-bioc/R/bin/R CMD build --keep-empty-dirs --no-resave-data QuaternaryProd StartedAt: 2025-10-15 19:18:50 -0400 (Wed, 15 Oct 2025) EndedAt: 2025-10-15 19:24:30 -0400 (Wed, 15 Oct 2025) EllapsedTime: 340.4 seconds RetCode: 0 Status: OK PackageFile: QuaternaryProd_1.42.0.tar.gz PackageFileSize: 10.75 MiB