Package: QuaternaryProd Version: 1.42.0 Command: /Library/Frameworks/R.framework/Resources/bin/R CMD INSTALL QuaternaryProd StartedAt: 2025-05-19 15:18:54 -0400 (Mon, 19 May 2025) EndedAt: 2025-05-19 15:19:11 -0400 (Mon, 19 May 2025) EllapsedTime: 16.9 seconds RetCode: 0 Status: OK