Package: Qtlizer Version: 1.22.0 Command: E:\biocbuild\bbs-3.21-bioc\R\bin\R.exe CMD INSTALL Qtlizer StartedAt: 2025-08-14 15:50:31 -0400 (Thu, 14 Aug 2025) EndedAt: 2025-08-14 15:50:40 -0400 (Thu, 14 Aug 2025) EllapsedTime: 9.0 seconds RetCode: 0 Status: OK