Package: QUBIC Version: 1.36.0 Command: rm -rf QUBIC.buildbin-libdir && mkdir QUBIC.buildbin-libdir && /Users/biocbuild/BBS/utils/build-universal.sh QUBIC_1.36.0.tar.gz /Library/Frameworks/R.framework/Resources/bin/R QUBIC.buildbin-libdir StartedAt: 2025-04-22 01:02:12 -0400 (Tue, 22 Apr 2025) EndedAt: 2025-04-22 01:02:53 -0400 (Tue, 22 Apr 2025) EllapsedTime: 41.7 seconds RetCode: 0 Status: OK PackageFile: QUBIC_1.36.0.tgz PackageFileSize: 633.3 KiB