Package: QSutils Version: 1.24.0 Command: /home/biocbuild/R/R/bin/R CMD build --keep-empty-dirs --no-resave-data QSutils StartedAt: 2025-01-31 01:56:07 -0000 (Fri, 31 Jan 2025) EndedAt: 2025-01-31 01:58:02 -0000 (Fri, 31 Jan 2025) EllapsedTime: 115.1 seconds RetCode: 0 Status: OK PackageFile: QSutils_1.24.0.tar.gz PackageFileSize: 1.386 MiB