Package: QRscore Version: 1.2.0 Command: /home/biocbuild/bbs-3.22-bioc/R/bin/R CMD build --keep-empty-dirs --no-resave-data --md5 QRscore StartedAt: 2025-11-17 22:52:40 -0500 (Mon, 17 Nov 2025) EndedAt: 2025-11-17 22:52:42 -0500 (Mon, 17 Nov 2025) EllapsedTime: 2.0 seconds RetCode: 0 Status: OK PackageFile: QRscore_1.2.0.tar.gz PackageFileSize: 3.109 MiB