Package: QDNAseq Version: 1.42.0 Command: /Library/Frameworks/R.framework/Resources/bin/R CMD check --install=check:QDNAseq.install-out.txt --library=/Library/Frameworks/R.framework/Resources/library --no-vignettes --timings QDNAseq_1.42.0.tar.gz StartedAt: 2025-02-01 05:34:13 -0500 (Sat, 01 Feb 2025) EndedAt: 2025-02-01 05:41:42 -0500 (Sat, 01 Feb 2025) EllapsedTime: 449.4 seconds RetCode: 0 Status: OK CheckDir: QDNAseq.Rcheck Warnings: 0