Package: QDNAseq Version: 1.44.0 Command: rm -rf QDNAseq.buildbin-libdir && mkdir QDNAseq.buildbin-libdir && /Users/biocbuild/BBS/utils/build-universal.sh QDNAseq_1.44.0.tar.gz /Library/Frameworks/R.framework/Resources/bin/R QDNAseq.buildbin-libdir StartedAt: 2025-04-29 13:07:19 -0400 (Tue, 29 Apr 2025) EndedAt: 2025-04-29 13:07:28 -0400 (Tue, 29 Apr 2025) EllapsedTime: 9.1 seconds RetCode: 0 Status: OK PackageFile: QDNAseq_1.44.0.tgz PackageFileSize: 1.534 MiB