Package: Pviz Version: 1.42.0 Command: rm -rf Pviz.buildbin-libdir && mkdir Pviz.buildbin-libdir && /Users/biocbuild/BBS/utils/build-universal.sh Pviz_1.42.0.tar.gz /Library/Frameworks/R.framework/Resources/bin/R Pviz.buildbin-libdir StartedAt: 2025-04-22 01:01:46 -0400 (Tue, 22 Apr 2025) EndedAt: 2025-04-22 01:03:30 -0400 (Tue, 22 Apr 2025) EllapsedTime: 104.3 seconds RetCode: 0 Status: OK PackageFile: Pviz_1.42.0.tgz PackageFileSize: 671.2 KiB