Package: PureCN Version: 2.14.1 Command: chmod a+r PureCN -R && E:\biocbuild\bbs-3.21-bioc\R\bin\R.exe CMD build --keep-empty-dirs --no-resave-data PureCN StartedAt: 2025-08-14 21:27:57 -0400 (Thu, 14 Aug 2025) EndedAt: 2025-08-14 21:33:31 -0400 (Thu, 14 Aug 2025) EllapsedTime: 333.9 seconds RetCode: 0 Status: OK PackageFile: PureCN_2.14.1.tar.gz PackageFileSize: 5.724 MiB